{"text_format":"1","workbook":"xlsx","n_sheets":2,"sheets":["STAMPA","CALCOLO"],"not_rendered":{"charts":0,"images":1,"macros":1,"external_links":0,"defined_names":1,"comments":0,"pivot_tables":0},"unopened":[],"bounds":{"document_bytes":16777216,"sheet_cells":100000,"rows_first":2000,"rows_last":500,"rows_between":2000,"halvings":0,"cell_chars":16384,"cell_head_chars":4096},"cells_cut":0,"cells_raw":0,"read":"whole","date_system":"1900"}

{"sheet":"STAMPA","index":0,"n_rows":30,"n_cols":11,"rows_kept":30,"cut":false,"hidden":false,"merged":[]}
["pulviTombola - Tabellone della tombola",null,null,null,{"$f":"TODAY()","v":"2021-01-01"},null,"SN:",{"$f":"CALCOLO!P$2","v":0},"A"]
[{"$f":"IF(CALCOLO!B2>0,CALCOLO!B2,\"\")","v":""},{"$f":"IF(CALCOLO!C2>0,CALCOLO!C2,\"\")","v":""},{"$f":"IF(CALCOLO!D2>0,CALCOLO!D2,\"\")","v":""},{"$f":"IF(CALCOLO!E2>0,CALCOLO!E2,\"\")","v":31},{"$f":"IF(CALCOLO!F2>0,CALCOLO!F2,\"\")","v":40},{"$f":"IF(CALCOLO!G2>0,CALCOLO!G2,\"\")","v":56},{"$f":"IF(CALCOLO!H2>0,CALCOLO!H2,\"\")","v":60},{"$f":"IF(CALCOLO!I2>0,CALCOLO!I2,\"\")","v":72},{"$f":"IF(CALCOLO!J2>0,CALCOLO!J2,\"\")","v":""}]
[{"$f":"IF(CALCOLO!B3>0,CALCOLO!B3,\"\")","v":""},{"$f":"IF(CALCOLO!C3>0,CALCOLO!C3,\"\")","v":""},{"$f":"IF(CALCOLO!D3>0,CALCOLO!D3,\"\")","v":22},{"$f":"IF(CALCOLO!E3>0,CALCOLO!E3,\"\")","v":""},{"$f":"IF(CALCOLO!F3>0,CALCOLO!F3,\"\")","v":42},{"$f":"IF(CALCOLO!G3>0,CALCOLO!G3,\"\")","v":57},{"$f":"IF(CALCOLO!H3>0,CALCOLO!H3,\"\")","v":61},{"$f":"IF(CALCOLO!I3>0,CALCOLO!I3,\"\")","v":""},{"$f":"IF(CALCOLO!J3>0,CALCOLO!J3,\"\")","v":90}]
[{"$f":"IF(CALCOLO!B4>0,CALCOLO!B4,\"\")","v":2},{"$f":"IF(CALCOLO!C4>0,CALCOLO!C4,\"\")","v":11},{"$f":"IF(CALCOLO!D4>0,CALCOLO!D4,\"\")","v":28},{"$f":"IF(CALCOLO!E4>0,CALCOLO!E4,\"\")","v":34},{"$f":"IF(CALCOLO!F4>0,CALCOLO!F4,\"\")","v":""},{"$f":"IF(CALCOLO!G4>0,CALCOLO!G4,\"\")","v":""},{"$f":"IF(CALCOLO!H4>0,CALCOLO!H4,\"\")","v":""},{"$f":"IF(CALCOLO!I4>0,CALCOLO!I4,\"\")","v":77},{"$f":"IF(CALCOLO!J4>0,CALCOLO!J4,\"\")","v":""}]
[null,null,null,null,null,null,null,null,"SOLO PER ANDROID",null,"Numero seriale"]
["pulviTombola - Tabellone della tombola",null,null,null,{"$f":"TODAY()","v":"2021-01-01"},null,"SN:",{"$f":"CALCOLO!P$2","v":0},"B",null,{"$f":"CALCOLO!P2","v":0}]
[{"$f":"IF(CALCOLO!B5>0,CALCOLO!B5,\"\")","v":""},{"$f":"IF(CALCOLO!C5>0,CALCOLO!C5,\"\")","v":""},{"$f":"IF(CALCOLO!D5>0,CALCOLO!D5,\"\")","v":21},{"$f":"IF(CALCOLO!E5>0,CALCOLO!E5,\"\")","v":38},{"$f":"IF(CALCOLO!F5>0,CALCOLO!F5,\"\")","v":""},{"$f":"IF(CALCOLO!G5>0,CALCOLO!G5,\"\")","v":50},{"$f":"IF(CALCOLO!H5>0,CALCOLO!H5,\"\")","v":63},{"$f":"IF(CALCOLO!I5>0,CALCOLO!I5,\"\")","v":""},{"$f":"IF(CALCOLO!J5>0,CALCOLO!J5,\"\")","v":84}]
[{"$f":"IF(CALCOLO!B6>0,CALCOLO!B6,\"\")","v":1},{"$f":"IF(CALCOLO!C6>0,CALCOLO!C6,\"\")","v":""},{"$f":"IF(CALCOLO!D6>0,CALCOLO!D6,\"\")","v":26},{"$f":"IF(CALCOLO!E6>0,CALCOLO!E6,\"\")","v":39},{"$f":"IF(CALCOLO!F6>0,CALCOLO!F6,\"\")","v":46},{"$f":"IF(CALCOLO!G6>0,CALCOLO!G6,\"\")","v":""},{"$f":"IF(CALCOLO!H6>0,CALCOLO!H6,\"\")","v":""},{"$f":"IF(CALCOLO!I6>0,CALCOLO!I6,\"\")","v":""},{"$f":"IF(CALCOLO!J6>0,CALCOLO!J6,\"\")","v":87}]
[{"$f":"IF(CALCOLO!B7>0,CALCOLO!B7,\"\")","v":3},{"$f":"IF(CALCOLO!C7>0,CALCOLO!C7,\"\")","v":16},{"$f":"IF(CALCOLO!D7>0,CALCOLO!D7,\"\")","v":""},{"$f":"IF(CALCOLO!E7>0,CALCOLO!E7,\"\")","v":""},{"$f":"IF(CALCOLO!F7>0,CALCOLO!F7,\"\")","v":49},{"$f":"IF(CALCOLO!G7>0,CALCOLO!G7,\"\")","v":55},{"$f":"IF(CALCOLO!H7>0,CALCOLO!H7,\"\")","v":""},{"$f":"IF(CALCOLO!I7>0,CALCOLO!I7,\"\")","v":71},{"$f":"IF(CALCOLO!J7>0,CALCOLO!J7,\"\")","v":""}]
[null,null,null,null,null,null,null,null,"SOLO PER ANDROID"]
["pulviTombola - Tabellone della tombola",null,null,null,{"$f":"TODAY()","v":"2021-01-01"},null,"SN:",{"$f":"CALCOLO!P$2","v":0},"C"]
[{"$f":"IF(CALCOLO!B8>0,CALCOLO!B8,\"\")","v":""},{"$f":"IF(CALCOLO!C8>0,CALCOLO!C8,\"\")","v":14},{"$f":"IF(CALCOLO!D8>0,CALCOLO!D8,\"\")","v":23},{"$f":"IF(CALCOLO!E8>0,CALCOLO!E8,\"\")","v":33},{"$f":"IF(CALCOLO!F8>0,CALCOLO!F8,\"\")","v":""},{"$f":"IF(CALCOLO!G8>0,CALCOLO!G8,\"\")","v":""},{"$f":"IF(CALCOLO!H8>0,CALCOLO!H8,\"\")","v":62},{"$f":"IF(CALCOLO!I8>0,CALCOLO!I8,\"\")","v":""},{"$f":"IF(CALCOLO!J8>0,CALCOLO!J8,\"\")","v":82}]
[{"$f":"IF(CALCOLO!B9>0,CALCOLO!B9,\"\")","v":5},{"$f":"IF(CALCOLO!C9>0,CALCOLO!C9,\"\")","v":""},{"$f":"IF(CALCOLO!D9>0,CALCOLO!D9,\"\")","v":24},{"$f":"IF(CALCOLO!E9>0,CALCOLO!E9,\"\")","v":""},{"$f":"IF(CALCOLO!F9>0,CALCOLO!F9,\"\")","v":48},{"$f":"IF(CALCOLO!G9>0,CALCOLO!G9,\"\")","v":""},{"$f":"IF(CALCOLO!H9>0,CALCOLO!H9,\"\")","v":68},{"$f":"IF(CALCOLO!I9>0,CALCOLO!I9,\"\")","v":""},{"$f":"IF(CALCOLO!J9>0,CALCOLO!J9,\"\")","v":85}]
[{"$f":"IF(CALCOLO!B10>0,CALCOLO!B10,\"\")","v":""},{"$f":"IF(CALCOLO!C10>0,CALCOLO!C10,\"\")","v":17},{"$f":"IF(CALCOLO!D10>0,CALCOLO!D10,\"\")","v":29},{"$f":"IF(CALCOLO!E10>0,CALCOLO!E10,\"\")","v":""},{"$f":"IF(CALCOLO!F10>0,CALCOLO!F10,\"\")","v":""},{"$f":"IF(CALCOLO!G10>0,CALCOLO!G10,\"\")","v":59},{"$f":"IF(CALCOLO!H10>0,CALCOLO!H10,\"\")","v":69},{"$f":"IF(CALCOLO!I10>0,CALCOLO!I10,\"\")","v":79},{"$f":"IF(CALCOLO!J10>0,CALCOLO!J10,\"\")","v":""}]
[null,null,null,null,null,null,null,null,"SOLO PER ANDROID"]
["pulviTombola - Tabellone della tombola",null,null,null,{"$f":"TODAY()","v":"2021-01-01"},null,"SN:",{"$f":"CALCOLO!P$2","v":0},"D"]
[{"$f":"IF(CALCOLO!B11>0,CALCOLO!B11,\"\")","v":""},{"$f":"IF(CALCOLO!C11>0,CALCOLO!C11,\"\")","v":10},{"$f":"IF(CALCOLO!D11>0,CALCOLO!D11,\"\")","v":""},{"$f":"IF(CALCOLO!E11>0,CALCOLO!E11,\"\")","v":""},{"$f":"IF(CALCOLO!F11>0,CALCOLO!F11,\"\")","v":41},{"$f":"IF(CALCOLO!G11>0,CALCOLO!G11,\"\")","v":52},{"$f":"IF(CALCOLO!H11>0,CALCOLO!H11,\"\")","v":67},{"$f":"IF(CALCOLO!I11>0,CALCOLO!I11,\"\")","v":70},{"$f":"IF(CALCOLO!J11>0,CALCOLO!J11,\"\")","v":""}]
[{"$f":"IF(CALCOLO!B12>0,CALCOLO!B12,\"\")","v":7},{"$f":"IF(CALCOLO!C12>0,CALCOLO!C12,\"\")","v":12},{"$f":"IF(CALCOLO!D12>0,CALCOLO!D12,\"\")","v":""},{"$f":"IF(CALCOLO!E12>0,CALCOLO!E12,\"\")","v":35},{"$f":"IF(CALCOLO!F12>0,CALCOLO!F12,\"\")","v":""},{"$f":"IF(CALCOLO!G12>0,CALCOLO!G12,\"\")","v":53},{"$f":"IF(CALCOLO!H12>0,CALCOLO!H12,\"\")","v":""},{"$f":"IF(CALCOLO!I12>0,CALCOLO!I12,\"\")","v":""},{"$f":"IF(CALCOLO!J12>0,CALCOLO!J12,\"\")","v":88}]
[{"$f":"IF(CALCOLO!B13>0,CALCOLO!B13,\"\")","v":""},{"$f":"IF(CALCOLO!C13>0,CALCOLO!C13,\"\")","v":19},{"$f":"IF(CALCOLO!D13>0,CALCOLO!D13,\"\")","v":25},{"$f":"IF(CALCOLO!E13>0,CALCOLO!E13,\"\")","v":36},{"$f":"IF(CALCOLO!F13>0,CALCOLO!F13,\"\")","v":""},{"$f":"IF(CALCOLO!G13>0,CALCOLO!G13,\"\")","v":""},{"$f":"IF(CALCOLO!H13>0,CALCOLO!H13,\"\")","v":""},{"$f":"IF(CALCOLO!I13>0,CALCOLO!I13,\"\")","v":76},{"$f":"IF(CALCOLO!J13>0,CALCOLO!J13,\"\")","v":89}]
[null,null,null,null,null,null,null,null,"SOLO PER ANDROID"]
["pulviTombola - Tabellone della tombola",null,null,null,{"$f":"TODAY()","v":"2021-01-01"},null,"SN:",{"$f":"CALCOLO!P$2","v":0},"E"]
[{"$f":"IF(CALCOLO!B14>0,CALCOLO!B14,\"\")","v":4},{"$f":"IF(CALCOLO!C14>0,CALCOLO!C14,\"\")","v":""},{"$f":"IF(CALCOLO!D14>0,CALCOLO!D14,\"\")","v":""},{"$f":"IF(CALCOLO!E14>0,CALCOLO!E14,\"\")","v":""},{"$f":"IF(CALCOLO!F14>0,CALCOLO!F14,\"\")","v":""},{"$f":"IF(CALCOLO!G14>0,CALCOLO!G14,\"\")","v":51},{"$f":"IF(CALCOLO!H14>0,CALCOLO!H14,\"\")","v":66},{"$f":"IF(CALCOLO!I14>0,CALCOLO!I14,\"\")","v":75},{"$f":"IF(CALCOLO!J14>0,CALCOLO!J14,\"\")","v":80}]
[{"$f":"IF(CALCOLO!B15>0,CALCOLO!B15,\"\")","v":6},{"$f":"IF(CALCOLO!C15>0,CALCOLO!C15,\"\")","v":13},{"$f":"IF(CALCOLO!D15>0,CALCOLO!D15,\"\")","v":""},{"$f":"IF(CALCOLO!E15>0,CALCOLO!E15,\"\")","v":32},{"$f":"IF(CALCOLO!F15>0,CALCOLO!F15,\"\")","v":""},{"$f":"IF(CALCOLO!G15>0,CALCOLO!G15,\"\")","v":54},{"$f":"IF(CALCOLO!H15>0,CALCOLO!H15,\"\")","v":""},{"$f":"IF(CALCOLO!I15>0,CALCOLO!I15,\"\")","v":""},{"$f":"IF(CALCOLO!J15>0,CALCOLO!J15,\"\")","v":81}]
[{"$f":"IF(CALCOLO!B16>0,CALCOLO!B16,\"\")","v":9},{"$f":"IF(CALCOLO!C16>0,CALCOLO!C16,\"\")","v":""},{"$f":"IF(CALCOLO!D16>0,CALCOLO!D16,\"\")","v":27},{"$f":"IF(CALCOLO!E16>0,CALCOLO!E16,\"\")","v":""},{"$f":"IF(CALCOLO!F16>0,CALCOLO!F16,\"\")","v":44},{"$f":"IF(CALCOLO!G16>0,CALCOLO!G16,\"\")","v":""},{"$f":"IF(CALCOLO!H16>0,CALCOLO!H16,\"\")","v":""},{"$f":"IF(CALCOLO!I16>0,CALCOLO!I16,\"\")","v":78},{"$f":"IF(CALCOLO!J16>0,CALCOLO!J16,\"\")","v":83}]
[null,null,null,null,null,null,null,null,"SOLO PER ANDROID"]
["pulviTombola - Tabellone della tombola",null,null,null,{"$f":"TODAY()","v":"2021-01-01"},null,"SN:",{"$f":"CALCOLO!P$2","v":0},"F"]
[{"$f":"IF(CALCOLO!B17>0,CALCOLO!B17,\"\")","v":""},{"$f":"IF(CALCOLO!C17>0,CALCOLO!C17,\"\")","v":""},{"$f":"IF(CALCOLO!D17>0,CALCOLO!D17,\"\")","v":20},{"$f":"IF(CALCOLO!E17>0,CALCOLO!E17,\"\")","v":""},{"$f":"IF(CALCOLO!F17>0,CALCOLO!F17,\"\")","v":43},{"$f":"IF(CALCOLO!G17>0,CALCOLO!G17,\"\")","v":58},{"$f":"IF(CALCOLO!H17>0,CALCOLO!H17,\"\")","v":64},{"$f":"IF(CALCOLO!I17>0,CALCOLO!I17,\"\")","v":73},{"$f":"IF(CALCOLO!J17>0,CALCOLO!J17,\"\")","v":""}]
[{"$f":"IF(CALCOLO!B18>0,CALCOLO!B18,\"\")","v":8},{"$f":"IF(CALCOLO!C18>0,CALCOLO!C18,\"\")","v":15},{"$f":"IF(CALCOLO!D18>0,CALCOLO!D18,\"\")","v":""},{"$f":"IF(CALCOLO!E18>0,CALCOLO!E18,\"\")","v":30},{"$f":"IF(CALCOLO!F18>0,CALCOLO!F18,\"\")","v":45},{"$f":"IF(CALCOLO!G18>0,CALCOLO!G18,\"\")","v":""},{"$f":"IF(CALCOLO!H18>0,CALCOLO!H18,\"\")","v":65},{"$f":"IF(CALCOLO!I18>0,CALCOLO!I18,\"\")","v":""},{"$f":"IF(CALCOLO!J18>0,CALCOLO!J18,\"\")","v":""}]
[{"$f":"IF(CALCOLO!B19>0,CALCOLO!B19,\"\")","v":""},{"$f":"IF(CALCOLO!C19>0,CALCOLO!C19,\"\")","v":18},{"$f":"IF(CALCOLO!D19>0,CALCOLO!D19,\"\")","v":""},{"$f":"IF(CALCOLO!E19>0,CALCOLO!E19,\"\")","v":37},{"$f":"IF(CALCOLO!F19>0,CALCOLO!F19,\"\")","v":47},{"$f":"IF(CALCOLO!G19>0,CALCOLO!G19,\"\")","v":""},{"$f":"IF(CALCOLO!H19>0,CALCOLO!H19,\"\")","v":""},{"$f":"IF(CALCOLO!I19>0,CALCOLO!I19,\"\")","v":74},{"$f":"IF(CALCOLO!J19>0,CALCOLO!J19,\"\")","v":86}]
[null,null,null,null,null,null,null,null,"SOLO PER ANDROID"]

{"sheet":"CALCOLO","index":1,"n_rows":20,"n_cols":16,"rows_kept":20,"cut":false,"hidden":true,"merged":[]}
[null,0,{"$f":"B1+1","v":1},{"$f":"C1+1","v":2},3,4,5,6,7,8,9,null,null,"Tempo","Tentativi","SN:"]
[0,0,0,0,31,40,56,60,72,0,5,{"$f":"COUNTIF(B2:J2,0)","v":4},null,0,1,0]
[{"$f":"A2+1","v":1},0,0,22,0,42,57,61,0,90,5,{"$f":"COUNTIF(B3:J3,0)","v":4}]
[{"$f":"A3+1","v":2},2,11,28,34,0,0,0,77,0,5,4]
[3,0,0,21,38,0,50,63,0,84,5,4]
[4,1,0,26,39,46,0,0,0,87,5,4]
[5,3,16,0,0,49,55,0,71,0,5,4]
[6,0,14,23,33,0,0,62,0,82,5,4]
[7,5,0,24,0,48,0,68,0,85,5,4]
[8,0,17,29,0,0,59,69,79,0,5,4]
[9,0,10,0,0,41,52,67,70,0,5,4]
[10,7,12,0,35,0,53,0,0,88,5,4]
[11,0,19,25,36,0,0,0,76,89,5,4]
[12,4,0,0,0,0,51,66,75,80,5,4]
[13,6,13,0,32,0,54,0,0,81,5,4]
[14,9,0,27,0,44,0,0,78,83,5,4]
[15,0,0,20,0,43,58,64,73,0,5,4]
[16,8,15,0,30,45,0,65,0,0,5,4]
[17,0,18,0,37,47,0,0,74,86,5,4]
[null,{"$f":"18-COUNTIF(B2:B19,0)","v":9},{"$f":"18-COUNTIF(C2:C19,0)","v":10},10,10,10,10,10,10,11,{"$f":"SUM(B20:J20)","v":90}]